Workbook

Sheet Comparison statement
B2: 43937 | D2: ARCHITECTURAL AREA STATEMENT | I2: EARLIER STATEMENT
D3: Sq.m | E3: Sq.ft | F3: X | G3: Remarks | I3: Sq.m | J3: Sq.ft | K3: Remarks
B4: Basement | D4: =#REF! -> #REF! | E4: =D4*10.764 -> #REF! | G4: Including Staircase rooms, Lifts, STP, WTP | I4: ='[1]DETAILED TABULATION'!$H$16+'[1]DETAILED TABULATION'!$H$17 -> 614.93 | J4: =I4*10.764 -> 6619.1065 | K4: Only STP & WTP
B5: Stilt - type 1 | D5: =STILT!#REF! -> #REF! | E5: =D5*10.764 -> #REF! | G5: Staircase areas, Lift areas, Association rooms, Electrical rooms; Drivers toilet, excluding lift lobbies | I5: ='[1]DETAILED TABULATION'!$H$19 -> 514.83 | J5: =I5*10.764 -> 5541.6301 | K5: Staircase areas, Lift areas & Lift lobbies; Excluding Drivers toilet, Electrical rooms
B6: Stilt - type 5 & 6 | D6: =STILT!L16 -> 0 | E6: =D6*10.764 -> 0
B8: Type 1 | D8: ='COMMON AREA'!F10 -> 645.15 | E8: =D8*10.764 -> 6944.3946 | G8: Deduction - Lift cutouts up to 7th floor, service shafts, Balcony Shafts, AC ledges in the OTS and Elevation projections | I8: =SUM([1]AREA!$E$33:$H$33)+SUM([1]AREA!$E$48:$H$48)+SUM([1]AREA!$E$63:$H$63)+SUM([1]AREA!$E$78:$H$78) -> 30813.594 | J8: =I8*10.764 -> 331677.53 | K8: Same as earlier, But Lift cutouts included for all floors
B9: Type 2 | D9: ='COMMON AREA'!#REF! -> #REF! | E9: =D9*10.764 -> #REF! | I9: =SUM([1]AREA!$E$93:$H$93)+SUM([1]AREA!$E$108:$H$108) -> 19794.968 | J9: =I9*10.764 -> 213073.04
B11: Clubhouse | D11: =#REF! -> #REF! | E11: =D11*10.764 -> #REF! | F11: 1 | G11: Terrace feature added; ~1000 sft added | I11: =[1]AREA!$E$119+[1]AREA!$F$119+[1]AREA!$H$119 -> 838.4275 | J11: =I11*10.764 -> 9024.8336
B12: Other areas WM Cabin | D12: =2.4*2.4 -> 5.76 | E12: =D12*10.764 -> 62.00064 | F12: 1 | I12: ='[1]DETAILED TABULATION'!$H$15 -> 5.76 | J12: =I12*10.764 -> 62.00064
B13: Other areas Pool surface area | D13: 191.69 | E13: =D13*10.764 -> 2063.3512 | F13: 1 | G13: Earlier area 104; 1000 sq.ft added | I13: ='[1]DETAILED TABULATION'!$H$20 -> 104.63 | J13: =I13*10.764 -> 1126.2373
B14: Other areas Change rooms | D14: 46.8 | E14: =D14*10.764 -> 503.7552 | F14: 1 | I14: ='[1]DETAILED TABULATION'!$H$21 -> 46.8 | J14: =I14*10.764 -> 503.7552
B15: Other areas Water tanks | D15: ='COMMON AREA'!#REF! -> #REF! | E15: =D15*10.764 -> #REF! | F15: 1 | I15: ='[1]DETAILED TABULATION'!$H$18 -> 458.76 | J15: =I15*10.764 -> 4938.0926
B16: Other areas Elevation Projections | D16: =('COMMON AREA'!#REF!+'COMMON AREA'!#REF!)-('COMMON AREA'!F10+'COMMON AREA'!#REF!) -> #REF! | E16: =D16*10.764 -> #REF! | F16: 1 | G16: Includes AC ledges at all levels
B18: Total saleable area | D18: =SUM(D4:D9)+(D11*F11)+(D12*F12)+(D13*F13)+(D14*F14)+(D15*F15)+(D16*F16) -> #REF! | E18: =D18*10.764 -> #REF! | I18: =SUM(I4:I15) -> 53192.7 | J18: =I18*10.764 -> 572566.22
B19: SA Efficiency with Site | D19: =D18/'[2]DETAILED UNIT AREA TABULATION'!$H$6 -> #REF! | I19: =I18/'[2]DETAILED UNIT AREA TABULATION'!$H$6 -> 2.1166363
B20: Builtup area | D20: =#REF! -> #REF! | E20: =D20*10.764 -> #REF! | I20: =[1]AREA!$B$19+[1]AREA!$B$33+[1]AREA!$B$48+[1]AREA!$B$63+[1]AREA!$B$78+[1]AREA!$B$93+[1]AREA!$B$108+[1]AREA!$B$119-[1]AREA!$D$108-[1]AREA!$D$93-[1]AREA!$D$78-[1]AREA!$D$63-[1]AREA!$D$48-[1]AREA!$D$33+[1]AREA!$B$131+[1]AREA!$B$132+[1]AREA!$B$133+[1]AREA!$B$134+[1]AREA!$B$135+[1]AREA!$B$136 -> 72646.852 | J20: =I20*10.764 -> 781970.71 | K20: Not Included: Terrace Head room areas and Lower terraces
B21: BuA Efficiency with SA | D21: =E18/E20 -> #REF! | I21: =I18/'[2]DETAILED UNIT AREA TABULATION'!$H$6 -> 2.1166363
B23: Unit Breakup | D23: EAST | E23: WEST | G23: Total No of Units | I23: EAST | J23: WEST | K23: Total No of Units
B24: 2BHK2T | D24: 70 | E24: 70 | F24: =SUM(D24:E26) -> 392 | I24: 70 | J24: 70 | K24: =SUM(I24:J26) -> 392
B25: 3BHK2T | D25: 70 | E25: 70 | I25: 70 | J25: 70
B26: 3BHK3T | D26: 56 | E26: =112-D26 -> 56 | I26: 56 | J26: =112-I26 -> 56
B28: CARPARKING | D28: INDEP | E28: DEP | F28: Total Parking (Excluding Visitors) | I28: INDEP | J28: DEP | K28: Total Parking (Excluding Visitors)
B29: OPEN PARKING | D29: 20 | E29: 4 | F29: =SUM(D29:E32) -> 525 | I29: 20 | J29: - | K29: =SUM(I29:I32) -> 446
B30: STILT | D30: 174 | E30: 35 | I30: 174 | J30: -
B31: BASEMENT | D31: 212 | E31: 40 | I31: 212 | J31: -
B32: VISITOR | D32: 40 | I32: 40 | J32: -

Sheet RERA
A1: 'PROPOSED CONSTRUCTION OF RESIDENTIAL GROUP HOUSING DEVELOPMENT COMPRISING 2 BLOCKS WITH 135 DWELLING UNITS; BLOCK A: STILT FLOOR + 5 FLOORS (HEIGHT- 18.30M) RESIDENTIAL BUILDING WITH 50 DWELLING AND BLOCK B: STILT FLOOR +5 FLOORS (HEIGHT-18.30M) RESIDENTIAL BUILDING WITH 85 DWELLING UNITS AVAILING PREMIUM FSI AT FLATTED DEVELOPMENT PLOT NO.169 IN CMDA APPROVED LAYOUT (P.P.D/L.O NO. 14/2022) COMPRISED IN S.NOS. 177/2 PART,202/6, 202/7, 203, 204/1A PART, 204/2 PART, 204/3 PART, 205/1 PART, 205/2 PART OF VENGAIVASAL VILLAGE WITHIN THE LIMITS OF ST. THOMAS MOUNT PANCHAYAT UNION)'' | T1: 1.52 | U1: 0.0225 | W1: =R150+S150 -> 125
A2: RERA AREA STATEMENT (in Sq. Mts)
A3: Sl.No | B3: BLOCK | C3: Floor | D3: Flat number | E3: Facing | F3: Flat type | G3: RERA Carpet area | H3: Exclusive balcony area | I3: Usable carpet area | J3: Usable carpet area | K3: BUA | L3: Exclusive verandah/ Service/ Open terrace area | M3: Private terrace-100% | N3: Proportionate common area | O3: Total area | P3: Total area | Q3: UDS area | R3: Car parking nos
G4: Sq.m | H4: Sq.m | I4: Sq.m | J4: Sq.ft R.O | K4: Sq.m | L4: Sq.m | M4: Sq.m | N4: Sq.m | O4: Sq.m | P4: Sq.ft R.O | Q4: Sq.m | R4: Open | S4: Covered
A5: 1 | B5: BLOCK A | C5: 1st floor | D5: A-101 | E5: EAST | F5: 2BHK 2T | G5: 58.38 | H5: =2.43-U1 -> 2.4075 | I5: =59.64-U1 -> 59.6175 | J5: =ROUND(I5*10.7639,0) -> 642 | K5: =68.97-U1 -> 68.9475 | L5: =M5/2 -> 3.78 | M5: 7.56 | N5: =O5-G5-H5-L5 -> 29.8311 | O5: =I5*$T$1+L5 -> 94.3986 | P5: =ROUND(O5*10.7639,0) -> 1016 | Q5: =O5/$O$150*$H$153 -> 38.033276 | R5: - | S5: 1
A6: 2 | B6: BLOCK A | C6: 1st floor | D6: A-102 | E6: EAST | F6: 2BHK 2T | G6: 61.89 | H6: =2.43-U1 -> 2.4075 | I6: =63.03-U1 -> 63.0075 | J6: =ROUND(I6*10.7639,0) -> 678 | K6: =72.99-U1 -> 72.9675 | L6: =M6/2 -> 0 | M6: 0 | N6: =O6-G6-H6-L6 -> 31.4739 | O6: =I6*$T$1+L6 -> 95.7714 | P6: =ROUND(O6*10.7639,0) -> 1031 | Q6: =O6/$O$150*$H$153 -> 38.586379 | R6: -
A7: 3 | B7: BLOCK A | C7: 1st floor | D7: A-103 | E7: WEST | F7: 3BHK 2T | G7: 79.68 | H7: =4.12-U1 -> 4.0975 | I7: =81.53-U1 -> 81.5075 | J7: =ROUND(I7*10.7639,0) -> 877 | K7: =94.42-U1 -> 94.3975 | L7: =M7/2 -> 0 | M7: 0 | N7: =O7-G7-H7-L7 -> 40.1139 | O7: =I7*$T$1+L7 -> 123.8914 | P7: =ROUND(O7*10.7639,0) -> 1334 | Q7: =O7/$O$150*$H$153 -> 49.915951 | R7: - | S7: 1
A8: 4 | B8: BLOCK A | C8: 1st floor | D8: A-104 | E8: NORTH | F8: 3BHK 3T | G8: 94.77 | H8: =9.93-(U1*3) -> 9.8625 | I8: =101.82-(U1*3) -> 101.7525 | J8: =ROUND(I8*10.7639,0) -> 1095 | K8: =115.75-(U1*3) -> 115.6825 | L8: =M8/2 -> 5.08 | M8: 10.16 | N8: =O8-G8-H8-L8 -> 50.0313 | O8: =I8*$T$1+L8 -> 159.7438 | P8: =ROUND(O8*10.7639,0) -> 1719 | Q8: =O8/$O$150*$H$153 -> 64.360913 | R8: - | S8: 1
A9: 5 | B9: BLOCK A | C9: 1st floor | D9: A-105 | E9: WEST | F9: 2BHK 2T | G9: 61.43 | H9: =3.81-U1 -> 3.7875 | I9: =63.41-U1 -> 63.3875 | J9: =ROUND(I9*10.7639,0) -> 682 | K9: =73.31-U1 -> 73.2875 | L9: =M9/2 -> 7.27 | M9: 14.54 | N9: =O9-G9-H9-L9 -> 31.1315 | O9: =I9*$T$1+L9 -> 103.619 | P9: =ROUND(O9*10.7639,0) -> 1115 | Q9: =O9/$O$150*$H$153 -> 41.748183 | R9: 1 | S9: -
A10: 6 | B10: BLOCK A | C10: 1st floor | D10: A-106 | E10: EAST | F10: 2BHK 2T | G10: 58.38 | H10: =2.43-U1 -> 2.4075 | I10: =59.59-U1 -> 59.5675 | J10: =ROUND(I10*10.7639,0) -> 641 | K10: =68.9-U1 -> 68.8775 | L10: =M10/2 -> 0 | M10: 0 | N10: =O10-G10-H10-L10 -> 29.7551 | O10: =I10*$T$1+L10 -> 90.5426 | P10: =ROUND(O10*10.7639,0) -> 975 | Q10: =O10/$O$150*$H$153 -> 36.479691 | R10: 1 | S10: -
A11: 7 | B11: BLOCK A | C11: 1st floor | D11: A-107 | E11: EAST | F11: 2BHK 2T | G11: 58.38 | H11: =2.43-U1 -> 2.4075 | I11: =59.64-U1 -> 59.6175 | J11: =ROUND(I11*10.7639,0) -> 642 | K11: =68.97-U1 -> 68.9475 | L11: =M11/2 -> 0 | M11: 0 | N11: =O11-G11-H11-L11 -> 29.8311 | O11: =I11*$T$1+L11 -> 90.6186 | P11: =ROUND(O11*10.7639,0) -> 975 | Q11: =O11/$O$150*$H$153 -> 36.510311 | S11: -
A12: 8 | B12: BLOCK A | C12: 1st floor | D12: A-108 | E12: WEST | F12: 3BHK 2T | G12: 79.76 | H12: 3.9775 | I12: =81.51-U1 -> 81.4875 | J12: =ROUND(I12*10.7639,0) -> 877 | K12: =94.48-U1 -> 94.4575 | L12: =M12/2 -> 7.925 | M12: 15.85 | N12: =O12-G12-H12-L12 -> 40.1235 | O12: =I12*$T$1+L12 -> 131.786 | P12: =ROUND(O12*10.7639,0) -> 1419 | Q12: =O12/$O$150*$H$153 -> 53.096692 | R12: - | S12: 1
A13: 9 | B13: BLOCK A | C13: 1st floor | D13: A-109 | E13: NORTH | F13: 3BHK 3T | G13: 93.52 | H13: =6.74-U1 -> 6.7175 | I13: =97.4-U1 -> 97.3775 | J13: =ROUND(I13*10.7639,0) -> 1048 | K13: =111.23-U1 -> 111.2075 | L13: =M13/2 -> 22.82 | M13: 45.64 | N13: =O13-G13-H13-L13 -> 47.7763 | O13: =I13*$T$1+L13 -> 170.8338 | P13: =ROUND(O13*10.7639,0) -> 1839 | Q13: =O13/$O$150*$H$153 -> 68.829083 | R13: - | S13: 1
A14: 10 | B14: BLOCK A | C14: 1st floor | D14: A-110 | E14: EAST | F14: 3BHK 2T | G14: 79.81 | H14: =4-U1 -> 3.9775 | I14: =81.62-U1 -> 81.5975 | J14: =ROUND(I14*10.7639,0) -> 878 | K14: =94.02-U1 -> 93.9975 | L14: =M14/2 -> 11.365 | M14: 22.73 | N14: =O14-G14-H14-L14 -> 40.2407 | O14: =I14*$T$1+L14 -> 135.3932 | P14: =ROUND(O14*10.7639,0) -> 1457 | Q14: =O14/$O$150*$H$153 -> 54.550036 | R14: - | S14: 1
A15: 11 | B15: BLOCK A | C15: 2nd floor | D15: A-201 | E15: EAST | F15: 2BHK 2T | G15: =G5 -> 58.38 | H15: =H5 -> 2.4075 | I15: =I5 -> 59.6175 | J15: =ROUND(I15*10.7639,0) -> 642 | K15: =K5 -> 68.9475 | L15: =M15/2 -> 0 | M15: 0 | N15: =O15-G15-H15-L15 -> 29.8311 | O15: =I15*$T$1+L15 -> 90.6186 | P15: =ROUND(O15*10.7639,0) -> 975 | Q15: =O15/$O$150*$H$153 -> 36.510311 | R15: - | S15: 1
A16: 12 | B16: BLOCK A | C16: 2nd floor | D16: A-202 | E16: EAST | F16: 2BHK 2T | G16: =G6 -> 61.89 | H16: =H6 -> 2.4075 | I16: =I6 -> 63.0075 | J16: =ROUND(I16*10.7639,0) -> 678 | K16: =K6 -> 72.9675 | L16: =M16/2 -> 0 | M16: 0 | N16: =O16-G16-H16-L16 -> 31.4739 | O16: =I16*$T$1+L16 -> 95.7714 | P16: =ROUND(O16*10.7639,0) -> 1031 | Q16: =O16/$O$150*$H$153 -> 38.586379 | R16: -
A17: 13 | B17: BLOCK A | C17: 2nd floor | D17: A-203 | E17: WEST | F17: 3BHK 2T | G17: =G7 -> 79.68 | H17: =H7 -> 4.0975 | I17: =I7 -> 81.5075 | J17: =ROUND(I17*10.7639,0) -> 877 | K17: =K7 -> 94.3975 | L17: =M17/2 -> 0 | M17: 0 | N17: =O17-G17-H17-L17 -> 40.1139 | O17: =I17*$T$1+L17 -> 123.8914 | P17: =ROUND(O17*10.7639,0) -> 1334 | Q17: =O17/$O$150*$H$153 -> 49.915951 | R17: - | S17: 1
A18: 14 | B18: BLOCK A | C18: 2nd floor | D18: A-204 | E18: NORTH | F18: 3BHK 3T | G18: =G8 -> 94.77 | H18: =H8 -> 9.8625 | I18: =I8 -> 101.7525 | J18: =ROUND(I18*10.7639,0) -> 1095 | K18: =K8 -> 115.6825 | L18: =M18/2 -> 0 | M18: 0 | N18: =O18-G18-H18-L18 -> 50.0313 | O18: =I18*$T$1+L18 -> 154.6638 | P18: =ROUND(O18*10.7639,0) -> 1665 | Q18: =O18/$O$150*$H$153 -> 62.314177 | R18: - | S18: 1
A19: 15 | B19: BLOCK A | C19: 2nd floor | D19: A-205 | E19: WEST | F19: 2BHK 2T | G19: =G9 -> 61.43 | H19: =H9 -> 3.7875 | I19: =I9 -> 63.3875 | J19: =ROUND(I19*10.7639,0) -> 682 | K19: =K9 -> 73.2875 | L19: =M19/2 -> 0 | M19: 0 | N19: =O19-G19-H19-L19 -> 31.1315 | O19: =I19*$T$1+L19 -> 96.349 | P19: =ROUND(O19*10.7639,0) -> 1037 | Q19: =O19/$O$150*$H$153 -> 38.819094 | R19: 1 | S19: -
A20: 16 | B20: BLOCK A | C20: 2nd floor | D20: A-206 | E20: EAST | F20: 2BHK 2T | G20: =G10 -> 58.38 | H20: =H10 -> 2.4075 | I20: =I10 -> 59.5675 | J20: =ROUND(I20*10.7639,0) -> 641 | K20: =K10 -> 68.8775 | L20: =M20/2 -> 0 | M20: 0 | N20: =O20-G20-H20-L20 -> 29.7551 | O20: =I20*$T$1+L20 -> 90.5426 | P20: =ROUND(O20*10.7639,0) -> 975 | Q20: =O20/$O$150*$H$153 -> 36.479691 | R20: 1 | S20: -
A21: 17 | B21: BLOCK A | C21: 2nd floor | D21: A-207 | E21: EAST | F21: 2BHK 2T | G21: =G11 -> 58.38 | H21: =H11 -> 2.4075 | I21: =I11 -> 59.6175 | J21: =ROUND(I21*10.7639,0) -> 642 | K21: =K11 -> 68.9475 | L21: =M21/2 -> 0 | M21: 0 | N21: =O21-G21-H21-L21 -> 29.8311 | O21: =I21*$T$1+L21 -> 90.6186 | P21: =ROUND(O21*10.7639,0) -> 975 | Q21: =O21/$O$150*$H$153 -> 36.510311 | S21: -
A22: 18 | B22: BLOCK A | C22: 2nd floor | D22: A-208 | E22: WEST | F22: 3BHK 2T | G22: =G12 -> 79.76 | H22: =H12 -> 3.9775 | I22: =I12 -> 81.4875 | J22: =ROUND(I22*10.7639,0) -> 877 | K22: =K12 -> 94.4575 | L22: =M22/2 -> 0 | M22: 0 | N22: =O22-G22-H22-L22 -> 40.1235 | O22: =I22*$T$1+L22 -> 123.861 | P22: =ROUND(O22*10.7639,0) -> 1333 | Q22: =O22/$O$150*$H$153 -> 49.903702 | R22: - | S22: 1
A23: 19 | B23: BLOCK A | C23: 2nd floor | D23: A-209 | E23: NORTH | F23: 3BHK 3T | G23: =G13 -> 93.52 | H23: =H13 -> 6.7175 | I23: =I13 -> 97.3775 | J23: =ROUND(I23*10.7639,0) -> 1048 | K23: =K13 -> 111.2075 | L23: =M23/2 -> 0 | M23: 0 | N23: =O23-G23-H23-L23 -> 47.7763 | O23: =I23*$T$1+L23 -> 148.0138 | P23: =ROUND(O23*10.7639,0) -> 1593 | Q23: =O23/$O$150*$H$153 -> 59.634886 | R23: - | S23: 1
A24: 20 | B24: BLOCK A | C24: 2nd floor | D24: A-210 | E24: EAST | F24: 3BHK 2T | G24: =G14 -> 79.81 | H24: =H14 -> 3.9775 | I24: =I14 -> 81.5975 | J24: =ROUND(I24*10.7639,0) -> 878 | K24: =K14 -> 93.9975 | L24: =M24/2 -> 0 | M24: 0 | N24: =O24-G24-H24-L24 -> 40.2407 | O24: =I24*$T$1+L24 -> 124.0282 | P24: =ROUND(O24*10.7639,0) -> 1335 | Q24: =O24/$O$150*$H$153 -> 49.971067 | R24: - | S24: 1
A25: 21 | B25: BLOCK A | C25: 3rd floor | D25: A-301 | E25: EAST | F25: 2BHK 2T | G25: =G15 -> 58.38 | H25: =H15 -> 2.4075 | I25: =I15 -> 59.6175 | J25: =ROUND(I25*10.7639,0) -> 642 | K25: =K15 -> 68.9475 | L25: =M25/2 -> 0 | M25: 0 | N25: =O25-G25-H25-L25 -> 29.8311 | O25: =I25*$T$1+L25 -> 90.6186 | P25: =ROUND(O25*10.7639,0) -> 975 | Q25: =O25/$O$150*$H$153 -> 36.510311 | R25: - | S25: 1
A26: 22 | B26: BLOCK A | C26: 3rd floor | D26: A-302 | E26: EAST | F26: 2BHK 2T | G26: =G16 -> 61.89 | H26: =H16 -> 2.4075 | I26: =I16 -> 63.0075 | J26: =ROUND(I26*10.7639,0) -> 678 | K26: =K16 -> 72.9675 | L26: =M26/2 -> 0 | M26: 0 | N26: =O26-G26-H26-L26 -> 31.4739 | O26: =I26*$T$1+L26 -> 95.7714 | P26: =ROUND(O26*10.7639,0) -> 1031 | Q26: =O26/$O$150*$H$153 -> 38.586379 | R26: -
A27: 23 | B27: BLOCK A | C27: 3rd floor | D27: A-303 | E27: WEST | F27: 3BHK 2T | G27: =G17 -> 79.68 | H27: =H17 -> 4.0975 | I27: =I17 -> 81.5075 | J27: =ROUND(I27*10.7639,0) -> 877 | K27: =K17 -> 94.3975 | L27: =M27/2 -> 0 | M27: 0 | N27: =O27-G27-H27-L27 -> 40.1139 | O27: =I27*$T$1+L27 -> 123.8914 | P27: =ROUND(O27*10.7639,0) -> 1334 | Q27: =O27/$O$150*$H$153 -> 49.915951 | R27: - | S27: 1
A28: 24 | B28: BLOCK A | C28: 3rd floor | D28: A-304 | E28: NORTH | F28: 3BHK 3T | G28: =G18 -> 94.77 | H28: =H18 -> 9.8625 | I28: =I18 -> 101.7525 | J28: =ROUND(I28*10.7639,0) -> 1095 | K28: =K18 -> 115.6825 | L28: =M28/2 -> 0 | M28: 0 | N28: =O28-G28-H28-L28 -> 50.0313 | O28: =I28*$T$1+L28 -> 154.6638 | P28: =ROUND(O28*10.7639,0) -> 1665 | Q28: =O28/$O$150*$H$153 -> 62.314177 | R28: - | S28: 1
A29: 25 | B29: BLOCK A | C29: 3rd floor | D29: A-305 | E29: WEST | F29: 2BHK 2T | G29: =G19 -> 61.43 | H29: =H19 -> 3.7875 | I29: =I19 -> 63.3875 | J29: =ROUND(I29*10.7639,0) -> 682 | K29: =K19 -> 73.2875 | L29: =M29/2 -> 0 | M29: 0 | N29: =O29-G29-H29-L29 -> 31.1315 | O29: =I29*$T$1+L29 -> 96.349 | P29: =ROUND(O29*10.7639,0) -> 1037 | Q29: =O29/$O$150*$H$153 -> 38.819094 | R29: 1 | S29: -
A30: 26 | B30: BLOCK A | C30: 3rd floor | D30: A-306 | E30: EAST | F30: 2BHK 2T | G30: =G20 -> 58.38 | H30: =H20 -> 2.4075 | I30: =I20 -> 59.5675 | J30: =ROUND(I30*10.7639,0) -> 641 | K30: =K20 -> 68.8775 | L30: =M30/2 -> 0 | M30: 0 | N30: =O30-G30-H30-L30 -> 29.7551 | O30: =I30*$T$1+L30 -> 90.5426 | P30: =ROUND(O30*10.7639,0) -> 975 | Q30: =O30/$O$150*$H$153 -> 36.479691 | R30: 1 | S30: -
A31: 27 | B31: BLOCK A | C31: 3rd floor | D31: A-307 | E31: EAST | F31: 2BHK 2T | G31: =G21 -> 58.38 | H31: =H21 -> 2.4075 | I31: =I21 -> 59.6175 | J31: =ROUND(I31*10.7639,0) -> 642 | K31: =K21 -> 68.9475 | L31: =M31/2 -> 0 | M31: 0 | N31: =O31-G31-H31-L31 -> 29.8311 | O31: =I31*$T$1+L31 -> 90.6186 | P31: =ROUND(O31*10.7639,0) -> 975 | Q31: =O31/$O$150*$H$153 -> 36.510311 | S31: -
A32: 28 | B32: BLOCK A | C32: 3rd floor | D32: A-308 | E32: WEST | F32: 3BHK 2T | G32: =G22 -> 79.76 | H32: =H22 -> 3.9775 | I32: =I22 -> 81.4875 | J32: =ROUND(I32*10.7639,0) -> 877 | K32: =K22 -> 94.4575 | L32: =M32/2 -> 0 | M32: 0 | N32: =O32-G32-H32-L32 -> 40.1235 | O32: =I32*$T$1+L32 -> 123.861 | P32: =ROUND(O32*10.7639,0) -> 1333 | Q32: =O32/$O$150*$H$153 -> 49.903702 | R32: - | S32: 1
A33: 29 | B33: BLOCK A | C33: 3rd floor | D33: A-309 | E33: NORTH | F33: 3BHK 3T | G33: =G23 -> 93.52 | H33: =H23 -> 6.7175 | I33: =I23 -> 97.3775 | J33: =ROUND(I33*10.7639,0) -> 1048 | K33: =K23 -> 111.2075 | L33: =M33/2 -> 0 | M33: 0 | N33: =O33-G33-H33-L33 -> 47.7763 | O33: =I33*$T$1+L33 -> 148.0138 | P33: =ROUND(O33*10.7639,0) -> 1593 | Q33: =O33/$O$150*$H$153 -> 59.634886 | R33: - | S33: 1
A34: 30 | B34: BLOCK A | C34: 3rd floor | D34: A-310 | E34: EAST | F34: 3BHK 2T | G34: =G24 -> 79.81 | H34: =H24 -> 3.9775 | I34: =I24 -> 81.5975 | J34: =ROUND(I34*10.7639,0) -> 878 | K34: =K24 -> 93.9975 | L34: =M34/2 -> 0 | M34: 0 | N34: =O34-G34-H34-L34 -> 40.2407 | O34: =I34*$T$1+L34 -> 124.0282 | P34: =ROUND(O34*10.7639,0) -> 1335 | Q34: =O34/$O$150*$H$153 -> 49.971067 | R34: - | S34: 1
A35: 31 | B35: BLOCK A | C35: 4th floor | D35: A-401 | E35: EAST | F35: 2BHK 2T | G35: =G25 -> 58.38 | H35: =H25 -> 2.4075 | I35: =I25 -> 59.6175 | J35: =ROUND(I35*10.7639,0) -> 642 | K35: =K25 -> 68.9475 | L35: =M35/2 -> 0 | M35: 0 | N35: =O35-G35-H35-L35 -> 29.8311 | O35: =I35*$T$1+L35 -> 90.6186 | P35: =ROUND(O35*10.7639,0) -> 975 | Q35: =O35/$O$150*$H$153 -> 36.510311 | R35: - | S35: 1
A36: 32 | B36: BLOCK A | C36: 4th floor | D36: A-402 | E36: EAST | F36: 2BHK 2T | G36: =G26 -> 61.89 | H36: =H26 -> 2.4075 | I36: =I26 -> 63.0075 | J36: =ROUND(I36*10.7639,0) -> 678 | K36: =K26 -> 72.9675 | L36: =M36/2 -> 0 | M36: 0 | N36: =O36-G36-H36-L36 -> 31.4739 | O36: =I36*$T$1+L36 -> 95.7714 | P36: =ROUND(O36*10.7639,0) -> 1031 | Q36: =O36/$O$150*$H$153 -> 38.586379 | R36: - | S36: 1
A37: 33 | B37: BLOCK A | C37: 4th floor | D37: A-403 | E37: WEST | F37: 3BHK 2T | G37: =G27 -> 79.68 | H37: =H27 -> 4.0975 | I37: =I27 -> 81.5075 | J37: =ROUND(I37*10.7639,0) -> 877 | K37: =K27 -> 94.3975 | L37: =M37/2 -> 0 | M37: 0 | N37: =O37-G37-H37-L37 -> 40.1139 | O37: =I37*$T$1+L37 -> 123.8914 | P37: =ROUND(O37*10.7639,0) -> 1334 | Q37: =O37/$O$150*$H$153 -> 49.915951 | R37: - | S37: 1
A38: 34 | B38: BLOCK A | C38: 4th floor | D38: A-404 | E38: NORTH | F38: 3BHK 3T | G38: =G28 -> 94.77 | H38: =H28 -> 9.8625 | I38: =I28 -> 101.7525 | J38: =ROUND(I38*10.7639,0) -> 1095 | K38: =K28 -> 115.6825 | L38: =M38/2 -> 0 | M38: 0 | N38: =O38-G38-H38-L38 -> 50.0313 | O38: =I38*$T$1+L38 -> 154.6638 | P38: =ROUND(O38*10.7639,0) -> 1665 | Q38: =O38/$O$150*$H$153 -> 62.314177 | R38: - | S38: 1
A39: 35 | B39: BLOCK A | C39: 4th floor | D39: A-405 | E39: WEST | F39: 2BHK 2T | G39: =G29 -> 61.43 | H39: =H29 -> 3.7875 | I39: =I29 -> 63.3875 | J39: =ROUND(I39*10.7639,0) -> 682 | K39: =K29 -> 73.2875 | L39: =M39/2 -> 0 | M39: 0 | N39: =O39-G39-H39-L39 -> 31.1315 | O39: =I39*$T$1+L39 -> 96.349 | P39: =ROUND(O39*10.7639,0) -> 1037 | Q39: =O39/$O$150*$H$153 -> 38.819094 | R39: 1 | S39: -
A40: 36 | B40: BLOCK A | C40: 4th floor | D40: A-406 | E40: EAST | F40: 2BHK 2T | G40: =G30 -> 58.38 | H40: =H30 -> 2.4075 | I40: =I30 -> 59.5675 | J40: =ROUND(I40*10.7639,0) -> 641 | K40: =K30 -> 68.8775 | L40: =M40/2 -> 0 | M40: 0 | N40: =O40-G40-H40-L40 -> 29.7551 | O40: =I40*$T$1+L40 -> 90.5426 | P40: =ROUND(O40*10.7639,0) -> 975 | Q40: =O40/$O$150*$H$153 -> 36.479691 | R40: - | S40: 1
...

Sheet CO-EFFICIENT CALCULATION
B2: Area summary - Vengaivasal
F3: Sq.m
B4: Site area - patta | F4: ='DETAILED UNIT AREA TABULATION'!J4 -> 6959.83
B5: Site area - Survey | F5: ='DETAILED UNIT AREA TABULATION'!#REF! -> #REF!
B6: Site area - Document | F6: ='DETAILED UNIT AREA TABULATION'!#REF! -> #REF!
B7: Developable area (UDS) | F7: ='DETAILED UNIT AREA TABULATION'!J7 -> 0
B8: Overall saleable area | F8: ='DETAILED UNIT AREA TABULATION'!J8 -> 0
B9: Overall Carpet areas (Cumulative RERA Carpet area + RERA Balcony area) | F9: ='DETAILED UNIT AREA TABULATION'!J9 -> 2167.52
B10: Common areas | F10: ='DETAILED UNIT AREA TABULATION'!J10 -> 1745.5
B11: Common area coefficient | F11: ='DETAILED UNIT AREA TABULATION'!J11 -> 0
B12: UDS Coefficient | F12: ='DETAILED UNIT AREA TABULATION'!J12 -> 0
B14: CAR PARKING STATEMENT
B15: STILT LEVEL - PHY CH
B16: STILT LEVEL - VISITORS | H16: TOTAL NO. OF NORMAL CAR PARKS ALLOTED
B17: CAR PARKS ALLOTTED | H17: 135
B18: TOTAL
B21: COVERED CAR PARKS ALLOTTED
B22: PH CH CAR PARK
B23: CAR PARK

Sheet RERA STATEMENT
A3: RERA AREA TABULATION - PHASE-3 | L3: 06.05.2021
A4: S.NO | B4: TOWER | C4: FLAT NO | D4: TYPE | E4: FLOOR | F4: RERA CARPET AREA | G4: EXCLUSIVE BALCONY | H4: EXCLUSIVE VERANDAH / UTILITY / SERVICE /OPEN TERRACE | I4: PROPORTIONATE COMMON AREA | J4: TOTAL AREA | K4: UDS LAND AREA | L4: CARPARKING
F5: sq.m | G5: sq.m | H5: sq.m | I5: sq.m | J5: sqm | K5: sqm | L5: covered | M5: open
A6: 1 | B6: A | C6: 11 | D6: 2BHK2T | E6: 1 | F6: ='DETAILED UNIT AREA TABULATION'!J18 -> 58.38 | G6: ='DETAILED UNIT AREA TABULATION'!L18 -> 2.43 | I6: ='DETAILED UNIT AREA TABULATION'!R18 -> 0 | J6: =I6+G6+F6 -> 60.81 | K6: ='DETAILED UNIT AREA TABULATION'!V18 -> 0 | L6: 1
A7: =A6+1 -> 2 | B7: A | C7: 12 | D7: 2BHK2T | E7: 1 | F7: ='DETAILED UNIT AREA TABULATION'!J19 -> 61.89 | G7: ='DETAILED UNIT AREA TABULATION'!L19 -> 2.43 | I7: ='DETAILED UNIT AREA TABULATION'!R19 -> 0 | J7: =I7+G7+F7 -> 64.32 | K7: ='DETAILED UNIT AREA TABULATION'!V19 -> 0 | L7: 1
A8: =A7+1 -> 3 | B8: A | C8: 13 | D8: 2BHK2T | E8: 1 | F8: ='DETAILED UNIT AREA TABULATION'!J20 -> 79.68 | G8: ='DETAILED UNIT AREA TABULATION'!L20 -> 4.12 | I8: ='DETAILED UNIT AREA TABULATION'!R20 -> 0 | J8: =I8+G8+F8 -> 83.8 | K8: ='DETAILED UNIT AREA TABULATION'!V20 -> 0 | L8: 1
A9: =A8+1 -> 4 | B9: A | C9: 14 | D9: 2BHK2T | E9: 1 | F9: ='DETAILED UNIT AREA TABULATION'!J21 -> 94.77 | G9: ='DETAILED UNIT AREA TABULATION'!L21 -> 9.93 | I9: ='DETAILED UNIT AREA TABULATION'!R21 -> 0 | J9: =I9+G9+F9 -> 104.7 | K9: ='DETAILED UNIT AREA TABULATION'!V21 -> 0 | L9: 1
A10: =A9+1 -> 5 | B10: A | C10: 15 | D10: 2BHK2TC | E10: 1 | F10: ='DETAILED UNIT AREA TABULATION'!J22 -> 61.43 | G10: ='DETAILED UNIT AREA TABULATION'!L22 -> 3.81 | I10: ='DETAILED UNIT AREA TABULATION'!R22 -> 0 | J10: =I10+G10+F10 -> 65.24 | K10: ='DETAILED UNIT AREA TABULATION'!V22 -> 0 | L10: 1
A11: =A10+1 -> 6 | B11: A | C11: 16 | D11: 2BHK2TC | E11: 1 | F11: ='DETAILED UNIT AREA TABULATION'!J23 -> 58.38 | G11: ='DETAILED UNIT AREA TABULATION'!L23 -> 2.43 | I11: ='DETAILED UNIT AREA TABULATION'!R23 -> 0 | J11: =I11+G11+F11 -> 60.81 | K11: ='DETAILED UNIT AREA TABULATION'!V23 -> 0 | L11: 1
A12: =A11+1 -> 7 | B12: A | C12: 17 | D12: 3BHK2T | E12: 1 | F12: ='DETAILED UNIT AREA TABULATION'!J24 -> 58.38 | G12: ='DETAILED UNIT AREA TABULATION'!L24 -> 2.43 | I12: ='DETAILED UNIT AREA TABULATION'!R24 -> 0 | J12: =I12+G12+F12 -> 60.81 | K12: ='DETAILED UNIT AREA TABULATION'!V24 -> 0 | L12: 1
A13: =A12+1 -> 8 | B13: A | C13: 18 | D13: 3BHK2T | E13: 1 | F13: ='DETAILED UNIT AREA TABULATION'!J25 -> 76.76 | G13: ='DETAILED UNIT AREA TABULATION'!L25 -> 4 | I13: ='DETAILED UNIT AREA TABULATION'!R25 -> 0 | J13: =I13+G13+F13 -> 80.76 | K13: ='DETAILED UNIT AREA TABULATION'!V25 -> 0 | L13: 1
A14: =A13+1 -> 9 | B14: A | C14: 21 | D14: 2BHK2T | E14: 2 | F14: ='DETAILED UNIT AREA TABULATION'!J28 -> 61.09 | G14: ='DETAILED UNIT AREA TABULATION'!L28 -> 2.43 | I14: ='DETAILED UNIT AREA TABULATION'!R28 -> 0 | J14: =I14+G14+F14 -> 63.52 | K14: ='DETAILED UNIT AREA TABULATION'!V28 -> 0 | L14: 1
A15: =A14+1 -> 10 | B15: A | C15: 22 | D15: 2BHK2T | E15: 2 | F15: ='DETAILED UNIT AREA TABULATION'!J29 -> 61.09 | G15: ='DETAILED UNIT AREA TABULATION'!L29 -> 2.43 | I15: ='DETAILED UNIT AREA TABULATION'!R29 -> 0 | J15: =I15+G15+F15 -> 63.52 | K15: ='DETAILED UNIT AREA TABULATION'!V29 -> 0 | L15: 1
A16: =A15+1 -> 11 | B16: A | C16: 23 | D16: 2BHK2T | E16: 2 | F16: ='DETAILED UNIT AREA TABULATION'!J30 -> 79.76 | G16: ='DETAILED UNIT AREA TABULATION'!L30 -> 3.99 | I16: ='DETAILED UNIT AREA TABULATION'!R30 -> 0 | J16: =I16+G16+F16 -> 83.75 | K16: ='DETAILED UNIT AREA TABULATION'!V30 -> 0 | L16: 1
A17: =A16+1 -> 12 | B17: A | C17: 24 | D17: 2BHK2T | E17: 2 | F17: ='DETAILED UNIT AREA TABULATION'!J31 -> 79.77 | G17: ='DETAILED UNIT AREA TABULATION'!L31 -> 3.99 | I17: ='DETAILED UNIT AREA TABULATION'!R31 -> 0 | J17: =I17+G17+F17 -> 83.76 | K17: ='DETAILED UNIT AREA TABULATION'!V31 -> 0 | L17: 1
A18: =A17+1 -> 13 | B18: A | C18: 25 | D18: 2BHK2TC | E18: 2 | F18: ='DETAILED UNIT AREA TABULATION'!J32 -> 58.38 | G18: ='DETAILED UNIT AREA TABULATION'!L32 -> 2.43 | I18: ='DETAILED UNIT AREA TABULATION'!R32 -> 0 | J18: =I18+G18+F18 -> 60.81 | K18: ='DETAILED UNIT AREA TABULATION'!V32 -> 0 | L18: 1
A19: =A18+1 -> 14 | B19: A | C19: 26 | D19: 2BHK2TC | E19: 2 | F19: ='DETAILED UNIT AREA TABULATION'!J33 -> 80.02 | G19: ='DETAILED UNIT AREA TABULATION'!L33 -> 3.87 | I19: ='DETAILED UNIT AREA TABULATION'!R33 -> 0 | J19: =I19+G19+F19 -> 83.89 | K19: ='DETAILED UNIT AREA TABULATION'!V33 -> 0 | L19: 1
A20: =A19+1 -> 15 | B20: A | C20: 27 | D20: 3BHK2T | E20: 2 | F20: ='DETAILED UNIT AREA TABULATION'!J34 -> 93.57 | G20: ='DETAILED UNIT AREA TABULATION'!L34 -> 6.81 | I20: ='DETAILED UNIT AREA TABULATION'!R34 -> 0 | J20: =I20+G20+F20 -> 100.38 | K20: ='DETAILED UNIT AREA TABULATION'!V34 -> 0 | L20: 1
A21: =A20+1 -> 16 | B21: A | C21: 28 | D21: 3BHK2T | E21: 2 | F21: ='DETAILED UNIT AREA TABULATION'!J35 -> 93.57 | G21: ='DETAILED UNIT AREA TABULATION'!L35 -> 6.81 | I21: ='DETAILED UNIT AREA TABULATION'!R35 -> 0 | J21: =I21+G21+F21 -> 100.38 | K21: ='DETAILED UNIT AREA TABULATION'!V35 -> 0 | L21: 1
A22: =A21+1 -> 17 | B22: A | C22: 31 | D22: 2BHK2T | E22: 3 | F22: ='DETAILED UNIT AREA TABULATION'!J36 -> 93.57 | G22: ='DETAILED UNIT AREA TABULATION'!L36 -> 6.81 | I22: ='DETAILED UNIT AREA TABULATION'!R36 -> 0 | J22: =I22+G22+F22 -> 100.38 | K22: ='DETAILED UNIT AREA TABULATION'!V36 -> 0 | L22: 1
A23: =A22+1 -> 18 | B23: A | C23: 32 | D23: 2BHK2T | E23: 3 | F23: ='DETAILED UNIT AREA TABULATION'!J37 -> 58.38 | G23: ='DETAILED UNIT AREA TABULATION'!L37 -> 2.43 | I23: ='DETAILED UNIT AREA TABULATION'!R37 -> 0 | J23: =I23+G23+F23 -> 60.81 | K23: ='DETAILED UNIT AREA TABULATION'!V37 -> 0 | L23: 1
A24: =A23+1 -> 19 | B24: A | C24: 33 | D24: 2BHK2T | E24: 3 | F24: ='DETAILED UNIT AREA TABULATION'!J38 -> 58.38 | G24: ='DETAILED UNIT AREA TABULATION'!L38 -> 2.43 | I24: ='DETAILED UNIT AREA TABULATION'!R38 -> 0 | J24: =I24+G24+F24 -> 60.81 | K24: ='DETAILED UNIT AREA TABULATION'!V38 -> 0 | L24: 1
A25: =A24+1 -> 20 | B25: A | C25: 34 | D25: 2BHK2T | E25: 3 | F25: ='DETAILED UNIT AREA TABULATION'!J39 -> 79.81 | G25: ='DETAILED UNIT AREA TABULATION'!L39 -> 4 | I25: ='DETAILED UNIT AREA TABULATION'!R39 -> 0 | J25: =I25+G25+F25 -> 83.81 | K25: ='DETAILED UNIT AREA TABULATION'!V39 -> 0 | L25: 1
... A30: =A29+1 -> 25 | B30: A | C30: 41 | D30: 2BHK2T | E30: 4 | F30: ='DETAILED UNIT AREA TABULATION'!J44 -> 79.56 | G30: ='DETAILED UNIT AREA TABULATION'!L44 -> 4.12 | I30: ='DETAILED UNIT AREA TABULATION'!R44 -> 0 | J30: =I30+G30+F30 -> 83.68 | K30: ='DETAILED UNIT AREA TABULATION'!V44 -> 0 | L30: 1
A31: =A30+1 -> 26 | B31: A | C31: 42 | D31: 2BHK2T | E31: 4 | F31: ='DETAILED UNIT AREA TABULATION'!#REF! -> #REF! | G31: ='DETAILED UNIT AREA TABULATION'!#REF! -> #REF! | I31: ='DETAILED UNIT AREA TABULATION'!#REF! -> #REF! | J31: =I31+G31+F31 -> #REF! | K31: ='DETAILED UNIT AREA TABULATION'!#REF! -> #REF! | L31: 1
A32: =A31+1 -> 27 | B32: A | C32: 43 | D32: 2BHK2T | E32: 4 | F32: ='DETAILED UNIT AREA TABULATION'!#REF! -> #REF! | G32: ='DETAILED UNIT AREA TABULATION'!#REF! -> #REF! | I32: ='DETAILED UNIT AREA TABULATION'!#REF! -> #REF! | J32: =I32+G32+F32 -> #REF! | K32: ='DETAILED UNIT AREA TABULATION'!#REF! -> #REF! | L32: 1
A33: =A32+1 -> 28 | B33: A | C33: 44 | D33: 2BHK2T | E33: 4 | F33: ='DETAILED UNIT AREA TABULATION'!#REF! -> #REF! | G33: ='DETAILED UNIT AREA TABULATION'!#REF! -> #REF! | I33: ='DETAILED UNIT AREA TABULATION'!#REF! -> #REF! | J33: =I33+G33+F33 -> #REF! | K33: ='DETAILED UNIT AREA TABULATION'!#REF! -> #REF! | L33: 1
A34: =A33+1 -> 29 | B34: A | C34: 45 | D34: 2BHK2TC | E34: 4 | F34: ='DETAILED UNIT AREA TABULATION'!#REF! -> #REF! | G34: ='DETAILED UNIT AREA TABULATION'!#REF! -> #REF! | I34: ='DETAILED UNIT AREA TABULATION'!#REF! -> #REF! | J34: =I34+G34+F34 -> #REF! | K34: ='DETAILED UNIT AREA TABULATION'!#REF! -> #REF! | L34: 1
A35: =A34+1 -> 30 | B35: A | C35: 46 | D35: 2BHK2TC | E35: 4 | F35: ='DETAILED UNIT AREA TABULATION'!#REF! -> #REF! | G35: ='DETAILED UNIT AREA TABULATION'!#REF! -> #REF! | I35: ='DETAILED UNIT AREA TABULATION'!#REF! -> #REF! | J35: =I35+G35+F35 -> #REF! | K35: ='DETAILED UNIT AREA TABULATION'!#REF! -> #REF! | L35: 1
A36: =A35+1 -> 31 | B36: A | C36: 47 | D36: 3BHK2T | E36: 4 | F36: ='DETAILED UNIT AREA TABULATION'!#REF! -> #REF! | G36: ='DETAILED UNIT AREA TABULATION'!#REF! -> #REF! | I36: ='DETAILED UNIT AREA TABULATION'!#REF! -> #REF! | J36: =I36+G36+F36 -> #REF! | K36: ='DETAILED UNIT AREA TABULATION'!#REF! -> #REF! | L36: 1
A37: =A36+1 -> 32 | B37: A | C37: 48 | D37: 3BHK2T | E37: 4 | F37: ='DETAILED UNIT AREA TABULATION'!#REF! -> #REF! | G37: ='DETAILED UNIT AREA TABULATION'!#REF! -> #REF! | I37: ='DETAILED UNIT AREA TABULATION'!#REF! -> #REF! | J37: =I37+G37+F37 -> #REF! | K37: ='DETAILED UNIT AREA TABULATION'!#REF! -> #REF! | L37: 1
A38: =A37+1 -> 33 | B38: A | C38: 51 | D38: 2BHK2T | E38: 5 | F38: ='DETAILED UNIT AREA TABULATION'!#REF! -> #REF! | G38: ='DETAILED UNIT AREA TABULATION'!#REF! -> #REF! | I38: ='DETAILED UNIT AREA TABULATION'!#REF! -> #REF! | J38: =I38+G38+F38 -> #REF! | K38: ='DETAILED UNIT AREA TABULATION'!#REF! -> #REF! | L38: 1
A39: =A38+1 -> 34 | B39: A | C39: 52 | D39: 2BHK2T | E39: 5 | F39: ='DETAILED UNIT AREA TABULATION'!#REF! -> #REF! | G39: ='DETAILED UNIT AREA TABULATION'!#REF! -> #REF! | I39: ='DETAILED UNIT AREA TABULATION'!#REF! -> #REF! | J39: =I39+G39+F39 -> #REF! | K39: ='DETAILED UNIT AREA TABULATION'!#REF! -> #REF! | L39: 1
A40: =A39+1 -> 35 | B40: A | C40: 53 | D40: 2BHK2T | E40: 5 | F40: ='DETAILED UNIT AREA TABULATION'!#REF! -> #REF! | G40: ='DETAILED UNIT AREA TABULATION'!#REF! -> #REF! | I40: ='DETAILED UNIT AREA TABULATION'!#REF! -> #REF! | J40: =I40+G40+F40 -> #REF! | K40: ='DETAILED UNIT AREA TABULATION'!#REF! -> #REF! | L40: 1
A41: =A40+1 -> 36 | B41: A | C41: 54 | D41: 2BHK2T | E41: 5 | F41: ='DETAILED UNIT AREA TABULATION'!#REF! -> #REF! | G41: ='DETAILED UNIT AREA TABULATION'!#REF! -> #REF! | I41: ='DETAILED UNIT AREA TABULATION'!#REF! -> #REF! | J41: =I41+G41+F41 -> #REF! | K41: ='DETAILED UNIT AREA TABULATION'!#REF! -> #REF! | L41: 1
A42: =A41+1 -> 37 | B42: A | C42: 55 | D42: 2BHK2TC | E42: 5 | F42: ='DETAILED UNIT AREA TABULATION'!#REF! -> #REF! | G42: ='DETAILED UNIT AREA TABULATION'!#REF! -> #REF! | I42: ='DETAILED UNIT AREA TABULATION'!#REF! -> #REF! | J42: =I42+G42+F42 -> #REF! | K42: ='DETAILED UNIT AREA TABULATION'!#REF! -> #REF! | L42: 1
... A261: =A260+1 -> 256 | B261: D | C261: 88 | D261: 3BHK2T | E261: 8 | F261: ='DETAILED UNIT AREA TABULATION'!#REF! -> #REF! | G261: ='DETAILED UNIT AREA TABULATION'!#REF! -> #REF! | I261: ='DETAILED UNIT AREA TABULATION'!#REF! -> #REF! | J261: =I261+G261+F261 -> #REF! | K261: ='DETAILED UNIT AREA TABULATION'!#REF! -> #REF! | L261: 1
B262: TOTAL | F262: =SUM(F6:F261) -> #REF! | G262: =SUM(G6:G261) -> #REF! | I262: =SUM(I6:I261) -> #REF! | J262: =SUM(J6:J261) -> #REF! | K262: =SUM(K6:K261) -> #REF! | L262: =SUM(L6:L261) -> 256

Sheet STILT
B2: STILT FLOOR
B3: FLOOR PLANS | C3: Overall Area | D3: Duct deductions, OTS & cutouts | E3: PARKING | F3: STAIRCASE &LIFT AREA | G3: WTP &UG sump | H3: ELECTRICAL& COMMUNICATION ROOM | I3: OWC | J3: STP TANK & PUMP ROOM | K3: DRIVERS / SERVANTS TOILET &SECURITY ROOM | M3: Total Builtup area
B5: STILT | C5: 3556.94 | D5: 0 | E5: =C5-F5-H5-I5-K5 -> 3298.03 | F5: 91.91 | G5: 130.59 | H5: 112.16 | I5: 29.9 | J5: =94.57+37.07 -> 131.64 | K5: 24.94 | M5: =C5-D5 -> 3556.94
B11: Total Builtup area | M11: =SUM(M5:M8) -> 3556.94

Sheet COMMON AREA
B2: COMMON AREA
B4: Residential floor plans - BLOCK - A
B5: FLOOR PLANS | C5: CORE AREA & CORRIDOR | D5: CUMULATIVE UNIT AREA | E5: Floor Multiplier | F5: Gross Saleable area | G5: OTHER LEDGE , ELEVATION PROJECTIONS, SUNSHADE & BEAMS PROJECTIONS | H5: NON ACCESSABLE TERRACE AT 1ST FLR | I5: ACCESSIBLE TERRACE | K5: Total common builtup area
B7: 1 floor | C7: 129.03 | E7: 1 | F7: =C7+D7*E7 -> 129.03 | H7: 150.6 | I7: 113.43 | K7: =(F7+G7) -> 129.03
B8: 2-5 floors | C8: =C7 -> 129.03 | E8: 4 | F8: =(C8+D8)*E8 -> 516.12 | G8: =42.01*E8 -> 168.04 | H8: 0 | I8: 0 | K8: =(F8+G8)-J8 -> 684.16
K9: =SUM(K7:K8) -> 813.19
B10: Total Saleable area | C10: =C7+(C8*E8) -> 645.15 | F10: =SUM(F7:F9) -> 645.15 | G10: =SUM(G7:G9) -> 168.04
B12: Total units Builtup area per floor | E12: =SUM(RERA!K5:K14) -> 862.77
B13: Other areas
B14: Terrace Head room | C14: 38.47
B15: OHT AT TERRACE | C15: 19.48
B16: LIFT MACHINE ROOM | C16: 10.12
C17: =SUM(C14:C16) -> 68.07
M21: =14400+70+90+90 -> 14650
B23: Residential floor plans - BLOCK - B
B24: FLOOR PLANS | C24: CORE AREA & CORRIDOR | D24: CUMULATIVE UNIT AREA | E24: Floor Multiplier | F24: Gross Saleable area | G24: OTHER LEDGE , ELEVATION PROJECTIONS, SUNSHADE & BEAMS PROJECTIONS | H24: NON ACCESSABLE TERRACE AT 1ST FLR | I24: ACCESSIBLE TERRACE | K24: Total builtup area
B26: 1 floor | C26: =219.15+0.92 -> 220.07 | E26: 1 | F26: =C26+D26*E26 -> 220.07 | H26: 87.78 | I26: 191.07 | K26: =(F26+G26)-J26 -> 220.07
B27: 2-5 floors | C27: =C26 -> 220.07 | E27: 4 | F27: =(C27+D27)*E27 -> 880.28 | G27: =78*E27 -> 312 | H27: 0 | I27: 0 | K27: =(F27+G27)-J27 -> 1192.28
K28: =SUM(K26:K27) -> 1412.35
B29: Total Saleable area | C29: =C26+(C27*E27) -> 1100.35 | F29: =SUM(F26:F28) -> 1100.35 | G29: =SUM(G26:G28) -> 312
B31: Total units Builtup area per floor | E31: =SUM(RERA!K57:K73) -> 1573.445
B32: Other areas
B33: Terrace Head room | C33: 56.8
B34: OHT AT TERRACE | C34: 24.7
B35: LIFT MACHINE ROOM | C35: 10.12
C36: =SUM(C33:C35) -> 91.62

Sheet DETAILED UNIT AREA TABULATION
B2: Area summary - GA,GD3 | T2: 10.7639
J3: Sq.m | K3: Sq.ft
B4: 1 | D4: Site area - as per patta | J4: 6959.83 | K4: =J4*$T$2 -> 74914.914
B5: 2 | D5: Site area - as per Physical Boundary | J5: 6645.16 | K5: =J5*$T$2 -> 71527.838
B6: 3 | D6: Site area - as per Least area | J6: 6522.3 | K6: =J6*$T$2 -> 70205.385
B7: 6 | D7: Site area - Document for UDS | K7: =J7*$T$2 -> 0 | M7: =W46 -> 0 | N7: =+K7-M7 -> 0
B8: 7 | D8: Overall saleable area | K8: =J8*$T$2 -> 0
B9: 8 | D9: Overall Carpet areas (Cumulative RERA Carpet area + RERA Balcony area) | J9: =J46+L46 -> 2167.52 | K9: =J9*$T$2 -> 23330.969
B10: 9 | D10: Common areas | J10: ='COMMON AREA'!C10+'COMMON AREA'!C29 -> 1745.5 | K10: =J10*$T$2 -> 18788.387
B11: 10 | D11: Common area coefficient
B12: 11 | D12: UDS Coefficient
B15: INDIVIDUAL UNIT CARPET AREA TABULATION | X15: Parking chart
B16: S.no | C16: Unit No. | E16: Typology | F16: Facing | G16: Tower no. | H16: B.U.A | J16: RERA Carpet area | L16: RERA Balcony area | N16: Usable carpet area (Including Balcony Area) | P16: Private Terrace | R16: Proportionate common area | T16: Saleable area per unit | V16: UDS LAND AREA in Vengaivasal village | X16: covered car park
H17: (sq.m) | I17: sq.ft | J17: (sq.m) | K17: sq.ft | L17: (sq.m) | M17: sq.ft | N17: (sq.m) | O17: sq.ft | P17: (sq.m) | Q17: sq.ft | R17: (sq.m) | S17: sq.ft | T17: (sq.m) | U17: (sq.ft) | V17: (sq.m) | W17: (sq.ft)
B18: 1 | C18: A | D18: 1 | E18: LIG UNIT | F18: EAST | G18: Tower A | H18: 68.97 | I18: =H18*10.764 -> 742.39308 | J18: 58.38 | K18: =ROUND(J18*$T$2,0) -> 628 | L18: 2.43 | M18: =ROUND(L18*$T$2,0) -> 26 | N18: 59.64 | O18: =N18*10.764 -> 641.96496 | P18: 9.1 | Q18: =P18*10.764 -> 97.9524 | R18: =N18*$J$11 -> 0 | S18: =ROUND(R18*$T$2,0) -> 0 | U18: =ROUND(T18*$T$2,0) -> 0 | W18: =ROUND(V18*$T$2,2) -> 0 | X18: 1 | Y18: =+K18+M18+S18 -> 654 | Z18: =+U18-Y18 -> -654
B19: =B18+1 -> 2 | C19: A | D19: 2 | E19: 2BHK2T | F19: EAST | G19: Tower A | H19: 72.99 | I19: =H19*10.764 -> 785.66436 | J19: 61.89 | K19: =ROUND(J19*$T$2,0) -> 666 | L19: 2.43 | M19: =ROUND(L19*$T$2,0) -> 26 | N19: 63.03 | O19: =N19*10.764 -> 678.45492 | P19: 0 | Q19: =ROUND(P19*$T$2,0) -> 0 | R19: =N19*$J$11 -> 0 | S19: =ROUND(R19*$T$2,0) -> 0 | U19: =ROUND(T19*$T$2,0) -> 0 | W19: =ROUND(V19*$T$2,2) -> 0 | X19: 1 | Y19: =+K19+M19+S19 -> 692 | Z19: =+U19-Y19 -> -692
B20: =B19+1 -> 3 | C20: A | D20: 3 | E20: 3BHK2T | F20: WEST | G20: Tower A | H20: 94.42 | I20: =H20*10.764 -> 1016.3369 | J20: 79.68 | K20: =ROUND(J20*$T$2,0) -> 858 | L20: 4.12 | M20: =ROUND(L20*$T$2,0) -> 44 | N20: 81.53 | O20: =N20*10.764 -> 877.58892 | P20: 0 | Q20: =ROUND(P20*$T$2,0) -> 0 | R20: =N20*$J$11 -> 0 | S20: =ROUND(R20*$T$2,0) -> 0 | U20: =ROUND(T20*$T$2,0) -> 0 | W20: =ROUND(V20*$T$2,2) -> 0 | X20: 1 | Y20: =+K20+M20+S20 -> 902 | Z20: =+U20-Y20 -> -902
B21: =B20+1 -> 4 | C21: A | D21: 4 | E21: 3BHK3T | F21: NORTH | G21: Tower A | H21: 115.75 | I21: =H21*10.764 -> 1245.933 | J21: 94.77 | K21: =ROUND(J21*$T$2,0) -> 1020 | L21: 9.93 | M21: =ROUND(L21*$T$2,0) -> 107 | N21: 101.82 | O21: =N21*10.764 -> 1095.9905 | P21: 14.31 | Q21: =ROUND(P21*$T$2,0) -> 154 | R21: =N21*$J$11 -> 0 | S21: =ROUND(R21*$T$2,0) -> 0 | U21: =ROUND(T21*$T$2,0) -> 0 | W21: =ROUND(V21*$T$2,2) -> 0 | X21: 1 | Y21: =+K21+M21+S21 -> 1127 | Z21: =+U21-Y21 -> -1127
B22: =B21+1 -> 5 | C22: A | D22: 5 | E22: 2BHK2T | F22: WEST | G22: Tower A | H22: 73.31 | I22: =H22*10.764 -> 789.10884 | J22: 61.43 | K22: =ROUND(J22*$T$2,0) -> 661 | L22: 3.81 | M22: =ROUND(L22*$T$2,0) -> 41 | N22: 63.41 | O22: =N22*10.764 -> 682.54524 | P22: 14.47 | Q22: =ROUND(P22*$T$2,0) -> 156 | R22: =N22*$J$11 -> 0 | S22: =ROUND(R22*$T$2,0) -> 0 | U22: =ROUND(T22*$T$2,0) -> 0 | W22: =ROUND(V22*$T$2,2) -> 0 | X22: 1 | Y22: =+K22+M22+S22 -> 702 | Z22: =+U22-Y22 -> -702
B23: =B22+1 -> 6 | C23: A | D23: 6 | E23: LIG UNIT | F23: EAST | G23: Tower A | H23: 68.9 | I23: =H23*10.764 -> 741.6396 | J23: 58.38 | K23: =ROUND(J23*$T$2,0) -> 628 | L23: 2.43 | M23: =ROUND(L23*$T$2,0) -> 26 | N23: 59.59 | O23: =N23*10.764 -> 641.42676 | P23: 1.36 | Q23: =ROUND(P23*$T$2,0) -> 15 | R23: =N23*$J$11 -> 0 | S23: =ROUND(R23*$T$2,0) -> 0 | U23: =ROUND(T23*$T$2,0) -> 0 | W23: =ROUND(V23*$T$2,2) -> 0 | X23: 1 | Y23: =+K23+M23+S23 -> 654 | Z23: =+U23-Y23 -> -654
B24: =B23+1 -> 7 | C24: A | D24: 7 | E24: LIG UNIT | F24: EAST | G24: Tower A | H24: 68.97 | I24: =H24*10.764 -> 742.39308 | J24: 58.38 | K24: =ROUND(J24*$T$2,0) -> 628 | L24: 2.43 | M24: =ROUND(L24*$T$2,0) -> 26 | N24: 59.64 | O24: =N24*10.764 -> 641.96496 | P24: 1.36 | Q24: =ROUND(P24*$T$2,0) -> 15 | R24: =N24*$J$11 -> 0 | S24: =ROUND(R24*$T$2,0) -> 0 | U24: =ROUND(T24*$T$2,0) -> 0 | W24: =ROUND(V24*$T$2,2) -> 0 | X24: 1 | Y24: =+K24+M24+S24 -> 654 | Z24: =+U24-Y24 -> -654
B25: =B24+1 -> 8 | C25: A | D25: 8 | E25: 3BHK2T | F25: WEST | G25: Tower A | H25: 94.48 | I25: =H25*10.764 -> 1016.9827 | J25: 76.76 | K25: =ROUND(J25*$T$2,0) -> 826 | L25: 4 | M25: =ROUND(L25*$T$2,0) -> 43 | N25: 81.51 | O25: =N25*10.764 -> 877.37364 | P25: 0 | Q25: =ROUND(P25*$T$2,0) -> 0 | R25: =N25*$J$11 -> 0 | S25: =ROUND(R25*$T$2,0) -> 0 | U25: =ROUND(T25*$T$2,0) -> 0 | W25: =ROUND(V25*$T$2,2) -> 0 | X25: 1 | Y25: =+K25+M25+S25 -> 869 | Z25: =+U25-Y25 -> -869
B26: 9 | C26: A | D26: 9 | E26: 3BHK3T | F26: NORTH | G26: Tower A | H26: 111.23 | I26: =H26*10.764 -> 1197.2797 | J26: 93.52 | K26: =ROUND(J26*$T$2,0) -> 1007 | L26: 6.74 | M26: =ROUND(L26*$T$2,0) -> 73 | N26: 97.4 | O26: =N26*10.764 -> 1048.4136 | P26: 45.64 | Q26: =ROUND(P26*$T$2,0) -> 491 | R26: =N26*$J$11 -> 0 | S26: =ROUND(R26*$T$2,0) -> 0 | U26: =ROUND(T26*$T$2,0) -> 0 | W26: =ROUND(V26*$T$2,2) -> 0 | X26: 1 | Y26: =+K26+M26+S26 -> 1080 | Z26: =+U26-Y26 -> -1080
B27: 10 | C27: A | D27: 10 | E27: 3BHK2T | F27: EAST | G27: Tower A | H27: 94.02 | I27: =H27*10.764 -> 1012.0313 | J27: 79.81 | K27: =ROUND(J27*$T$2,0) -> 859 | L27: 4 | M27: =ROUND(L27*$T$2,0) -> 43 | N27: 81.62 | O27: =N27*10.764 -> 878.55768 | P27: 27.1 | Q27: =ROUND(P27*$T$2,0) -> 292 | R27: =N27*$J$11 -> 0 | S27: =ROUND(R27*$T$2,0) -> 0 | U27: =ROUND(T27*$T$2,0) -> 0 | W27: =ROUND(V27*$T$2,2) -> 0 | X27: 1 | Y27: =+K27+M27+S27 -> 902 | Z27: =+U27-Y27 -> -902
B28: 11 | C28: B | D28: 1 | E28: 2BHK2T | F28: EAST | G28: Tower B | H28: 72.17 | I28: =H28*10.764 -> 776.83788 | J28: 61.09 | K28: =ROUND(J28*$T$2,0) -> 658 | L28: 2.43 | M28: =ROUND(L28*$T$2,0) -> 26 | N28: 62.28 | O28: =N28*10.764 -> 670.38192 | P28: 0 | Q28: =ROUND(P28*$T$2,0) -> 0 | R28: =N28*$J$11 -> 0 | S28: =ROUND(R28*$T$2,0) -> 0 | U28: =ROUND(T28*$T$2,0) -> 0 | W28: =ROUND(V28*$T$2,2) -> 0 | X28: 1 | Y28: =+K28+M28+S28 -> 684 | Z28: =+U28-Y28 -> -684
B29: =B28+1 -> 12 | C29: B | D29: 2 | E29: 2BHK2T | F29: EAST | G29: Tower B | H29: 72.17 | I29: =H29*10.764 -> 776.83788 | J29: 61.09 | K29: =ROUND(J29*$T$2,0) -> 658 | L29: 2.43 | M29: =ROUND(L29*$T$2,0) -> 26 | N29: 62.28 | O29: =N29*10.764 -> 670.38192 | P29: 0 | Q29: =ROUND(P29*$T$2,0) -> 0 | R29: =N29*$J$11 -> 0 | S29: =ROUND(R29*$T$2,0) -> 0 | U29: =ROUND(T29*$T$2,0) -> 0 | W29: =ROUND(V29*$T$2,2) -> 0 | X29: 1 | Y29: =+K29+M29+S29 -> 684 | Z29: =+U29-Y29 -> -684
B30: =B29+1 -> 13 | C30: B | D30: 3 | E30: 3BHK 2T | F30: WEST | G30: Tower B | H30: 94.5 | I30: =H30*10.764 -> 1017.198 | J30: 79.76 | K30: =ROUND(J30*$T$2,0) -> 859 | L30: 3.99 | M30: =ROUND(L30*$T$2,0) -> 43 | N30: 81.45 | O30: =N30*10.764 -> 876.7278 | P30: 0 | Q30: =ROUND(P30*$T$2,0) -> 0 | R30: =N30*$J$11 -> 0 | S30: =ROUND(R30*$T$2,0) -> 0 | U30: =ROUND(T30*$T$2,0) -> 0 | W30: =ROUND(V30*$T$2,2) -> 0 | X30: 1 | Y30: =+K30+M30+S30 -> 902 | Z30: =+U30-Y30 -> -902
B31: =B30+1 -> 14 | C31: B | D31: 4 | E31: 3BHK2T | F31: WEST | G31: Tower B | H31: 94.51 | I31: =H31*10.764 -> 1017.3056 | J31: 79.77 | K31: =ROUND(J31*$T$2,0) -> 859 | L31: 3.99 | M31: =ROUND(L31*$T$2,0) -> 43 | N31: 81.38 | O31: =N31*10.764 -> 875.97432 | P31: 2.72 | Q31: =ROUND(P31*$T$2,0) -> 29 | R31: =N31*$J$11 -> 0 | S31: =ROUND(R31*$T$2,0) -> 0 | U31: =ROUND(T31*$T$2,0) -> 0 | W31: =ROUND(V31*$T$2,2) -> 0 | X31: 1 | Y31: =+K31+M31+S31 -> 902 | Z31: =+U31-Y31 -> -902
B32: =B31+1 -> 15 | C32: B | D32: 5 | E32: LIG UNIT | F32: EAST | G32: Tower B | H32: 68.92 | I32: =H32*10.764 -> 741.85488 | J32: 58.38 | K32: =ROUND(J32*$T$2,0) -> 628 | L32: 2.43 | M32: =ROUND(L32*$T$2,0) -> 26 | N32: 59.6 | O32: =N32*10.764 -> 641.5344 | P32: 0 | Q32: =ROUND(P32*$T$2,0) -> 0 | R32: =N32*$J$11 -> 0 | S32: =ROUND(R32*$T$2,0) -> 0 | U32: =ROUND(T32*$T$2,0) -> 0 | W32: =ROUND(V32*$T$2,2) -> 0 | X32: 1 | Y32: =+K32+M32+S32 -> 654 | Z32: =+U32-Y32 -> -654
B33: =B32+1 -> 16 | C33: B | D33: 6 | E33: 3BHK2T | F33: NORTH | G33: Tower B | H33: 94.47 | I33: =H33*10.764 -> 1016.8751 | J33: 80.02 | K33: =ROUND(J33*$T$2,0) -> 861 | L33: 3.87 | M33: =ROUND(L33*$T$2,0) -> 42 | N33: 81.76 | O33: =N33*10.764 -> 880.06464 | P33: 49.64 | Q33: =ROUND(P33*$T$2,0) -> 534 | R33: =N33*$J$11 -> 0 | S33: =ROUND(R33*$T$2,0) -> 0 | U33: =ROUND(T33*$T$2,0) -> 0 | W33: =ROUND(V33*$T$2,2) -> 0 | X33: 1 | Y33: =+K33+M33+S33 -> 903 | Z33: =+U33-Y33 -> -903
B34: =B33+1 -> 17 | C34: B | D34: 7 | E34: 3BHK3T | F34: WEST | G34: Tower B | H34: 111.57 | I34: =H34*10.764 -> 1200.9395 | J34: 93.57 | K34: =ROUND(J34*$T$2,0) -> 1007 | L34: 6.81 | M34: =ROUND(L34*$T$2,0) -> 73 | N34: 97.04 | O34: =N34*10.764 -> 1044.5386 | P34: 8.14 | Q34: =ROUND(P34*$T$2,0) -> 88 | R34: =N34*$J$11 -> 0 | S34: =ROUND(R34*$T$2,0) -> 0 | U34: =ROUND(T34*$T$2,0) -> 0 | W34: =ROUND(V34*$T$2,2) -> 0 | X34: 1 | Y34: =+K34+M34+S34 -> 1080 | Z34: =+U34-Y34 -> -1080
B35: =B34+1 -> 18 | C35: B | D35: 8 | E35: 3BHK3T | F35: WEST | G35: Tower B | H35: 111.51 | I35: =H35*10.764 -> 1200.2936 | J35: 93.57 | K35: =ROUND(J35*$T$2,0) -> 1007 | L35: 6.81 | M35: =ROUND(L35*$T$2,0) -> 73 | N35: 97.04 | O35: =N35*10.764 -> 1044.5386 | P35: 0 | Q35: =ROUND(P35*$T$2,0) -> 0 | R35: =N35*$J$11 -> 0 | S35: =ROUND(R35*$T$2,0) -> 0 | U35: =ROUND(T35*$T$2,0) -> 0 | W35: =ROUND(V35*$T$2,2) -> 0 | X35: 1 | Y35: =+K35+M35+S35 -> 1080 | Z35: =+U35-Y35 -> -1080
B36: =B35+1 -> 19 | C36: B | D36: 9 | E36: 3BHK3T | F36: WEST | G36: Tower B | H36: 111.51 | I36: =H36*10.764 -> 1200.2936 | J36: 93.57 | K36: =ROUND(J36*$T$2,0) -> 1007 | L36: 6.81 | M36: =ROUND(L36*$T$2,0) -> 73 | N36: 97.04 | O36: =N36*10.764 -> 1044.5386 | P36: 2.76 | Q36: =ROUND(P36*$T$2,0) -> 30 | R36: =N36*$J$11 -> 0 | S36: =ROUND(R36*$T$2,0) -> 0 | U36: =ROUND(T36*$T$2,0) -> 0 | W36: =ROUND(V36*$T$2,2) -> 0 | X36: 1 | Y36: =+K36+M36+S36 -> 1080 | Z36: =+U36-Y36 -> -1080
B37: =B36+1 -> 20 | C37: B | D37: 10 | E37: LIG UNIT | F37: EAST | G37: Tower B | H37: 68.91 | I37: =H37*10.764 -> 741.74724 | J37: 58.38 | K37: =ROUND(J37*$T$2,0) -> 628 | L37: 2.43 | M37: =ROUND(L37*$T$2,0) -> 26 | N37: 59.66 | O37: =N37*10.764 -> 642.18024 | P37: 4.06 | Q37: =ROUND(P37*$T$2,0) -> 44 | R37: =N37*$J$11 -> 0 | S37: =ROUND(R37*$T$2,0) -> 0 | U37: =ROUND(T37*$T$2,0) -> 0 | W37: =ROUND(V37*$T$2,2) -> 0 | X37: 1 | Y37: =+K37+M37+S37 -> 654 | Z37: =+U37-Y37 -> -654
B38: =B37+1 -> 21 | C38: B | D38: 11 | E38: LIG UNIT | F38: EAST | G38: Tower B | H38: 69.03 | I38: =H38*10.764 -> 743.03892 | J38: 58.38 | K38: =ROUND(J38*$T$2,0) -> 628 | L38: 2.43 | M38: =ROUND(L38*$T$2,0) -> 26 | N38: 59.66 | O38: =N38*10.764 -> 642.18024 | P38: 0 | Q38: =ROUND(P38*$T$2,0) -> 0 | R38: =N38*$J$11 -> 0 | S38: =ROUND(R38*$T$2,0) -> 0 | U38: =ROUND(T38*$T$2,0) -> 0 | W38: =ROUND(V38*$T$2,2) -> 0 | X38: 1 | Y38: =+K38+M38+S38 -> 654 | Z38: =+U38-Y38 -> -654
B39: =B38+1 -> 22 | C39: B | D39: 12 | E39: 3BHK2T | F39: EAST | G39: Tower B | H39: 94.27 | I39: =H39*10.764 -> 1014.7223 | J39: 79.81 | K39: =ROUND(J39*$T$2,0) -> 859 | L39: 4 | M39: =ROUND(L39*$T$2,0) -> 43 | N39: 81.73 | O39: =N39*10.764 -> 879.74172 | P39: 2.4 | Q39: =ROUND(P39*$T$2,0) -> 26 | R39: =N39*$J$11 -> 0 | S39: =ROUND(R39*$T$2,0) -> 0 | U39: =ROUND(T39*$T$2,0) -> 0 | W39: =ROUND(V39*$T$2,2) -> 0 | X39: 1 | Y39: =+K39+M39+S39 -> 902 | Z39: =+U39-Y39 -> -902
B40: =B39+1 -> 23 | C40: B | D40: 13 | E40: 3BHK2T | F40: EAST | G40: Tower B | H40: 94.13 | I40: =H40*10.764 -> 1013.2153 | J40: 79.64 | K40: =ROUND(J40*$T$2,0) -> 857 | L40: 4 | M40: =ROUND(L40*$T$2,0) -> 43 | N40: 81.44 | O40: =N40*10.764 -> 876.62016 | P40: 0 | Q40: =ROUND(P40*$T$2,0) -> 0 | R40: =N40*$J$11 -> 0 | S40: =ROUND(R40*$T$2,0) -> 0 | U40: =ROUND(T40*$T$2,0) -> 0 | W40: =ROUND(V40*$T$2,2) -> 0 | X40: 1 | Y40: =+K40+M40+S40 -> 900 | Z40: =+U40-Y40 -> -900
... B44: =B43+1 -> 27 | C44: B | D44: 17 | E44: 3BHK2T | F44: EAST | G44: Tower B | H44: 94.36 | I44: =H44*10.764 -> 1015.691 | J44: 79.56 | K44: =ROUND(J44*$T$2,0) -> 856 | L44: 4.12 | M44: =ROUND(L44*$T$2,0) -> 44 | N44: 81.44 | O44: =N44*10.764 -> 876.62016 | P44: 53.79 | Q44: =ROUND(P44*$T$2,0) -> 579 | R44: =N44*$J$11 -> 0 | S44: =ROUND(R44*$T$2,0) -> 0 | U44: =ROUND(T44*$T$2,0) -> 0 | W44: =ROUND(V44*$T$2,2) -> 0 | X44: 1 | Y44: =+K44+M44+S44 -> 900 | Z44: =+U44-Y44 -> -900
B46: Total | H46: =SUM(H18:H44) -> 2436.98 | I46: =SUM(I18:I44) -> 26231.653 | J46: =SUM(J18:J45) -> 2047.92 | K46: =SUM(K18:K45) -> 22041 | L46: =SUM(L18:L45) -> 119.6 | M46: =SUM(M18:M45) -> 1285 | N46: =SUM(N18:N45) -> 2113.6 | O46: =SUM(O18:O45) -> 22750.79 | P46: =SUM(P18:P45) -> 304.38 | Q46: =SUM(Q18:Q45) -> 3278.9524 | ... T46: =SUM(T18:T45) -> 0 | U46: =SUM(U18:U44) -> 0 | V46: =SUM(V18:V45) -> 0 | W46: =SUM(W18:W45) -> 0
G48: TOWER-A | H48: =SUM(H18:H27) -> 863.04 | N48: =ROUND(T46,0)=ROUND(J8,0) -> TRUE | R48: =U46-K8 -> 0
...

Sheet Total consolidated
B2: Sl.no | C2: Particulars | D2: Ratios | E2: Sqm | F2: Sqft | I2: Sl.no | J2: Block | K2: Typology | L2: SA | M2: No of Units | N2: PCT | O2: No of Car Park
D3: /Nos | L3: in Sft | N3: [%]
I4: 1 | J4: A & B | K4: 2BHK 2T comp | L4: 974 to 976 | M4: =6*5 -> 30 | N4: =+M4/$M$12 -> 0.22222222 | O4: =M4 -> 30
B5: 1 | C5: Site Extent -least | E5: ='DETAILED UNIT AREA TABULATION'!J6 -> 6522.3 | F5: =E5*10.764 -> 70206.037 | I5: 2 | K5: 2BHK 2T | L5: 1018 to 1037 | M5: =5*4 -> 20 | N5: =+M5/$M$12 -> 0.14814815 | O5: =M5 -> 20
B6: 2 | C6: FSI Permissible | D6: =2 -> 2 | E6: =E5*2 -> 13044.6 | F6: =E6*10.764 -> 140412.07 | I6: 3 | K6: 3BHK 2T | L6: 1331 to 1339 | M6: =15+35 -> 50 | N6: =+M6/$M$12 -> 0.37037037 | O6: =M6 -> 50
B7: 3 | C7: FSI Achieved | D7: =E7/E5 -> 2.1554666 | E7: 14058.6 | F7: =E7*10.764 -> 151326.77 | I7: 4 | K7: 3BHK 3T | L7: 1587 to 1665 | M7: 35 | N7: =+M7/$M$12 -> 0.25925926 | O7: =M7 -> 35
B8: 4 | C8: OSR | D8: 0 | E8: 0 | F8: 0
B9: 5 | C9: Services area & Drivers toilet | D9: 0 | E9: =SUM(STILT!G5:K5) -> 429.23 | F9: =10.764*E9 -> 4620.2317
B10: 6 | C10: Stilt parking area | E10: =STILT!E5 -> 3298.03 | F10: =10.764*E10 -> 35499.995 | K10: Vistors @ 10% | O10: 11
B11: 7 | C11: Total parking Area | E11: =E10 -> 3298.03 | F11: =10.764*E11 -> 35499.995
B12: 8 | C12: Tower Area (Typ) | E12: =SUM(RERA!K55+RERA!K142+STILT!F5+'COMMON AREA'!K9+'COMMON AREA'!K28+'COMMON AREA'!C17+'COMMON AREA'!C36) -> 14658.215 | F12: =10.764*E12 -> 157781.03 | K12: Total | M12: =SUM(M4:M10) -> 135 | N12: =SUM(N4:N10) -> 1 | O12: =SUM(O4:O10) -> 146
B13: 9 | C13: Services slab | E13: ='COMMON AREA'!G10+'COMMON AREA'!G29 -> 480.04 | F13: =E13*10.764 -> 5167.1506
B14: 10 | C14: Club House | E14: 0 | F14: 0
B15: 11 | C15: Total Tower Built-up Area (TBUA) (inc. Club) | E15: =E12 -> 14658.215 | F15: =F12 -> 157781.03
B16: 12 | C16: Total Construction Area (CA) | E16: =F16/10.7639 -> 18385.646 | F16: =+F15+F11+F9+F14 -> 197901.25
B17: 13 | C17: Usable Carpet Area (UCA) | E17: =RERA!I55+RERA!I142 -> 10564.125 | F17: =10.764*E17 -> 113712.24
B18: 14 | C18: Saleable Area (SA) | E18: =RERA!O55+RERA!O142 -> 16188.35 | F18: =10.764*E18 -> 174251.4
B19: 15 | C19: Ratios:-
B20: 16 | C20: TBUA:SA | D20: =+F15/F18 -> 0.90547925
B21: 17 | C21: SA : FSI | D21: =F18/F7 -> 1.1514909 | E21: (Actual)
B22: 18 | C22: SA:UCA | D22: =F18/F17 -> 1.5323891 | E22: (Rounded)
B23: 19 | C23: CA:SA | D23: =F16/F18 -> 1.1357226
B24: 20 | C24: No of Blocks | D24: 2
B25: 21 | C25: No of Units | D25: =+M12 -> 135
B26: 22 | C26: Covered Car Park | D26: =107+10 -> 117
B27: 23 | C27: Surface Car Park | D27: =28+1 -> 29
B28: 24 | C28: Total Car Park | D28: =D26+D27 -> 146
B29: 25 | C29: ECS | E29: =E11/D26 -> 28.188291 | F29: =E29*10.764 -> 303.41876

Sheet SUMMARY
B2: MANAPAKKAM UNIT AREA SUMMARY | L2: 43937 | Q2: FLOOR PLAN MATRIX
B3: ='DETAILED UNIT AREA TABULATION'!B16 -> S.no | C3: ='DETAILED UNIT AREA TABULATION'!C16 -> Unit No. | D3: No of Units | E3: ='DETAILED UNIT AREA TABULATION'!E16 -> Typology | F3: ='DETAILED UNIT AREA TABULATION'!F16 -> Facing | G3: ='DETAILED UNIT AREA TABULATION'!J16 -> RERA Carpet area | H3: ='DETAILED UNIT AREA TABULATION'!L16 -> RERA Balcony area | I3: RERA Pvt Terrace | J3: Usable carpet area | K3: ='DETAILED UNIT AREA TABULATION'!R16 -> Proportionate common area | L3: SBA | M3: UDS | N3: Car parking | Q3: PLAN VARIATIONS
G4: Sq.ft | H4: Sq.ft | K4: Sq.ft | L4: Sq.ft | M4: Sq.ft | Q4: SAXX | R4: SAXX-A | S4: SAXX-B | T4: SAXX-C | U4: SAXX-D | V4: SAXX-E
B5: SA01 | C5: A, B, C & D - 37, 67 | D5: =COUNT(#REF!) -> 0 | E5: =#REF! -> #REF! | F5: =#REF! -> #REF! | G5: =#REF! -> #REF! | H5: =#REF! -> #REF! | J5: =G5+H5 -> #REF! | K5: =#REF! -> #REF! | L5: =#REF! -> #REF! | M5: =#REF! -> #REF! | N5: =#REF! -> #REF! | Q5: 37, 67
B6: SA02 | C6: A, B, C & D - 32, 62 | D6: =COUNT(#REF!) -> 0 | E6: =#REF! -> #REF! | F6: =#REF! -> #REF! | G6: =#REF! -> #REF! | H6: =#REF! -> #REF! | I6: =#REF! -> #REF! | J6: =G6+H6 -> #REF! | K6: =#REF! -> #REF! | L6: =#REF! -> #REF! | M6: =#REF! -> #REF! | N6: =#REF! -> #REF! | Q6: 32, 62
B7: SA03 | C7: A, B, C & D - 17, 27, 47, 57, 77 | D7: =COUNT(#REF!) -> 0 | E7: =#REF! -> #REF! | F7: =#REF! -> #REF! | G7: =#REF! -> #REF! | H7: =#REF! -> #REF! | I7: =#REF! -> #REF! | J7: =G7+H7 -> #REF! | K7: =#REF! -> #REF! | L7: =#REF! -> #REF! | M7: =#REF! -> #REF! | N7: =#REF! -> #REF! | Q7: 17, 57 | R7: 27, 47 | S7: 77
B8: * - units has private terraces.
